BEGIN:VCALENDAR
VERSION:2.0
PRODID:-//Vereinsring Wiesen - ECPv6.15.20//NONSGML v1.0//EN
CALSCALE:GREGORIAN
METHOD:PUBLISH
X-ORIGINAL-URL:https://vr-wiesen.de
X-WR-CALDESC:Veranstaltungen für Vereinsring Wiesen
REFRESH-INTERVAL;VALUE=DURATION:PT1H
X-Robots-Tag:noindex
X-PUBLISHED-TTL:PT1H
BEGIN:VTIMEZONE
TZID:UTC
BEGIN:STANDARD
TZOFFSETFROM:+0000
TZOFFSETTO:+0000
TZNAME:UTC
DTSTART:20230101T000000
END:STANDARD
END:VTIMEZONE
BEGIN:VEVENT
DTSTART;VALUE=DATE:20241109
DTEND;VALUE=DATE:20241110
DTSTAMP:20260419T202215
CREATED:20241019T113341Z
LAST-MODIFIED:20241019T113341Z
UID:106-1731110400-1731196799@vr-wiesen.de
SUMMARY:St. Martin
DESCRIPTION:
URL:https://vr-wiesen.de/event/st-martin/
END:VEVENT
BEGIN:VEVENT
DTSTART;TZID=UTC:20241109T190000
DTEND;TZID=UTC:20241109T220000
DTSTAMP:20260419T202215
CREATED:20241019T113507Z
LAST-MODIFIED:20241019T113507Z
UID:108-1731178800-1731189600@vr-wiesen.de
SUMMARY:GV OGV
DESCRIPTION:Spessarteinkehr 19:00 Uhr
URL:https://vr-wiesen.de/event/gv-ogv/
END:VEVENT
END:VCALENDAR